BEGIN:VCALENDAR
VERSION:2.0
PRODID:-//RSC - ECPv6.15.19//NONSGML v1.0//EN
CALSCALE:GREGORIAN
METHOD:PUBLISH
X-ORIGINAL-URL:https://www.rideausportscentre.com
X-WR-CALDESC:Events for RSC
REFRESH-INTERVAL;VALUE=DURATION:PT1H
X-Robots-Tag:noindex
X-PUBLISHED-TTL:PT1H
BEGIN:VTIMEZONE
TZID:America/Toronto
BEGIN:DAYLIGHT
TZOFFSETFROM:-0500
TZOFFSETTO:-0400
TZNAME:EDT
DTSTART:20240310T070000
END:DAYLIGHT
BEGIN:STANDARD
TZOFFSETFROM:-0400
TZOFFSETTO:-0500
TZNAME:EST
DTSTART:20241103T060000
END:STANDARD
BEGIN:DAYLIGHT
TZOFFSETFROM:-0500
TZOFFSETTO:-0400
TZNAME:EDT
DTSTART:20250309T070000
END:DAYLIGHT
BEGIN:STANDARD
TZOFFSETFROM:-0400
TZOFFSETTO:-0500
TZNAME:EST
DTSTART:20251102T060000
END:STANDARD
BEGIN:DAYLIGHT
TZOFFSETFROM:-0500
TZOFFSETTO:-0400
TZNAME:EDT
DTSTART:20260308T070000
END:DAYLIGHT
BEGIN:STANDARD
TZOFFSETFROM:-0400
TZOFFSETTO:-0500
TZNAME:EST
DTSTART:20261101T060000
END:STANDARD
END:VTIMEZONE
BEGIN:VEVENT
DTSTART;TZID=America/Toronto:20251101T160000
DTEND;TZID=America/Toronto:20251101T200000
DTSTAMP:20260422T081958
CREATED:20251022T133531Z
LAST-MODIFIED:20251027T190203Z
UID:10007231-1762012800-1762027200@www.rideausportscentre.com
SUMMARY:One Love Reggae Tennis Social
DESCRIPTION:Serve up some island vibes at our One Love Reggae Tennis Social on Saturday\, November 1 @ 4PM \nPlayers will enjoy a minimum of 1.5 hours of court time between 4–7PM\, followed by a lively social at The Bridge Public House featuring:🥟 Two Jamaican beef patties🥗 Garden salad🍹 One drink🔥 Our signature “Bob Marley Shot” \nBring your best energy and come dressed in red\, yellow\, and green.  Let’s celebrate good vibes\, great tennis\, and even better company. \nOne Love. One Rally. One Night Only. ❤️💛💚 \nBuy Tickets Online: https://rsc.clubautomation.com/calendar/event-info?id=394345
URL:https://www.rideausportscentre.com/event/one-love-reggae-tennis-social/
LOCATION:Rideau Sports Centre
CATEGORIES:Socials
ATTACH;FMTTYPE=image/png:https://www.rideausportscentre.com/wp-content/uploads/2025/10/App-Club-Announcement-Thumbnail.avif
END:VEVENT
END:VCALENDAR